BEGIN:VCALENDAR
VERSION:2.0
PRODID:-//Relaxed Living Yoga, Massage &amp; Nutrition - ECPv6.15.17.1//NONSGML v1.0//EN
CALSCALE:GREGORIAN
METHOD:PUBLISH
X-WR-CALNAME:Relaxed Living Yoga, Massage &amp; Nutrition
X-ORIGINAL-URL:https://massageyogaathome.com
X-WR-CALDESC:Events for Relaxed Living Yoga, Massage &amp; Nutrition
REFRESH-INTERVAL;VALUE=DURATION:PT1H
X-Robots-Tag:noindex
X-PUBLISHED-TTL:PT1H
BEGIN:VTIMEZONE
TZID:America/New_York
BEGIN:DAYLIGHT
TZOFFSETFROM:-0500
TZOFFSETTO:-0400
TZNAME:EDT
DTSTART:20210314T070000
END:DAYLIGHT
BEGIN:STANDARD
TZOFFSETFROM:-0400
TZOFFSETTO:-0500
TZNAME:EST
DTSTART:20211107T060000
END:STANDARD
BEGIN:DAYLIGHT
TZOFFSETFROM:-0500
TZOFFSETTO:-0400
TZNAME:EDT
DTSTART:20220313T070000
END:DAYLIGHT
BEGIN:STANDARD
TZOFFSETFROM:-0400
TZOFFSETTO:-0500
TZNAME:EST
DTSTART:20221106T060000
END:STANDARD
BEGIN:DAYLIGHT
TZOFFSETFROM:-0500
TZOFFSETTO:-0400
TZNAME:EDT
DTSTART:20230312T070000
END:DAYLIGHT
BEGIN:STANDARD
TZOFFSETFROM:-0400
TZOFFSETTO:-0500
TZNAME:EST
DTSTART:20231105T060000
END:STANDARD
END:VTIMEZONE
BEGIN:VEVENT
DTSTART;TZID=America/New_York:20221217T150000
DTEND;TZID=America/New_York:20221217T160000
DTSTAMP:20260421T082746
CREATED:20191211T055923Z
LAST-MODIFIED:20221129T215950Z
UID:4364-1671289200-1671292800@massageyogaathome.com
SUMMARY:BRING ON 2023 -BURNING BOWL RITUAL AND END OF THE YEAR CEREMONY WITH GUIDED MEDITATION
DESCRIPTION: BRING ON 2023! – BURNING BOWL RITUAL END OF THE  YEAR CEREMONY AND GUIDED MEDITATION\n \nJoin me for this gathering of the “Burning Bowl” ceremony and ritual as we prepare our mind/body/spirit for a New Year! \nBurning something is a symbolic act that signifies our readiness to let go and move on. Affirming and claiming our good then fills the space that our releasing has created. \nThis special ceremony\, ritual and guided meditation will assist you in shifting your relationship to those dense energy things\, and intentionally begin 2023 with a clear\, calm and integrated mind and heart…empowered! \nNo Experience Required  –  Investment – $20 \nREGISTER AT WWW.CASAMANNABLISS.COM – WORKSHOPS
URL:https://massageyogaathome.com/event/bring-on-2023-ceremony/
LOCATION:Casa MannaBliss\, 2000 N Federal Hwy\, Delray Beach\, United States
CATEGORIES:Meditation Event
ATTACH;FMTTYPE=image/png:https://massageyogaathome.com/wp-content/uploads/2019/11/Burning-Bowl-Ceremony.png
END:VEVENT
END:VCALENDAR