BEGIN:VCALENDAR
VERSION:2.0
PRODID:-//Relaxed Living Yoga, Massage &amp; Nutrition - ECPv6.15.17.1//NONSGML v1.0//EN
CALSCALE:GREGORIAN
METHOD:PUBLISH
X-ORIGINAL-URL:https://massageyogaathome.com
X-WR-CALDESC:Events for Relaxed Living Yoga, Massage &amp; Nutrition
REFRESH-INTERVAL;VALUE=DURATION:PT1H
X-Robots-Tag:noindex
X-PUBLISHED-TTL:PT1H
BEGIN:VTIMEZONE
TZID:America/New_York
BEGIN:DAYLIGHT
TZOFFSETFROM:-0500
TZOFFSETTO:-0400
TZNAME:EDT
DTSTART:20190310T070000
END:DAYLIGHT
BEGIN:STANDARD
TZOFFSETFROM:-0400
TZOFFSETTO:-0500
TZNAME:EST
DTSTART:20191103T060000
END:STANDARD
BEGIN:DAYLIGHT
TZOFFSETFROM:-0500
TZOFFSETTO:-0400
TZNAME:EDT
DTSTART:20200308T070000
END:DAYLIGHT
BEGIN:STANDARD
TZOFFSETFROM:-0400
TZOFFSETTO:-0500
TZNAME:EST
DTSTART:20201101T060000
END:STANDARD
BEGIN:DAYLIGHT
TZOFFSETFROM:-0500
TZOFFSETTO:-0400
TZNAME:EDT
DTSTART:20210314T070000
END:DAYLIGHT
BEGIN:STANDARD
TZOFFSETFROM:-0400
TZOFFSETTO:-0500
TZNAME:EST
DTSTART:20211107T060000
END:STANDARD
END:VTIMEZONE
BEGIN:VEVENT
DTSTART;TZID=America/New_York:20200819T083000
DTEND;TZID=America/New_York:20200819T093000
DTSTAMP:20260424T170810
CREATED:20200730T232847Z
LAST-MODIFIED:20200730T232847Z
UID:5255-1597825800-1597829400@massageyogaathome.com
SUMMARY:YOGA OUTDOORS IS BLISS! CASHIERS\, NC
DESCRIPTION:Wednesdays Slow Flow Yoga at The Cashiers Village Green – 9:30 – 10:30\n\n\n\n\nThere is no better way to greet your day then moving your body in sync with your breath outdoors in nature! Fear depletes your Immune System! The only way to “protect” yourself from any colds\, flu\, viruses\, and disease is “right” thinking\, exercise\, and fueling your body with nutritious food! Bring your mask and your mat! We will be spaced!\n\nGreet your day every Wednesday at 9:30 AM with gratitude\, joy and playfulness! Wake your body\, mind and spirit with this blissful outdoor practice with a variety of postures to energize and inspire you. This class is perfect for those new to Yoga as well as seasoned practitioners! This sweet flow will tone and strengthen your body and get you out of your head and into your heart!\n\n\n\n\n\nClass is limited to 10 people to allow for adequate social distancing and online registration is required – www.cashiersvalleyfusion.com. Class meets at The Village Green covered Pavilion off of Frank Allen Road.
URL:https://massageyogaathome.com/event/yoga-outdoors-is-bliss-cashiers-nc-4/
CATEGORIES:Yoga Class
ATTACH;FMTTYPE=image/png:https://massageyogaathome.com/wp-content/uploads/2020/07/Yoga-at-the-Cashiers-Village-Green.png
END:VEVENT
END:VCALENDAR