BEGIN:VCALENDAR
VERSION:2.0
PRODID:-//Relaxed Living Yoga, Massage &amp; Nutrition - ECPv6.15.17.1//NONSGML v1.0//EN
CALSCALE:GREGORIAN
METHOD:PUBLISH
X-WR-CALNAME:Relaxed Living Yoga, Massage &amp; Nutrition
X-ORIGINAL-URL:https://massageyogaathome.com
X-WR-CALDESC:Events for Relaxed Living Yoga, Massage &amp; Nutrition
REFRESH-INTERVAL;VALUE=DURATION:PT1H
X-Robots-Tag:noindex
X-PUBLISHED-TTL:PT1H
BEGIN:VTIMEZONE
TZID:America/New_York
BEGIN:DAYLIGHT
TZOFFSETFROM:-0500
TZOFFSETTO:-0400
TZNAME:EDT
DTSTART:20190310T070000
END:DAYLIGHT
BEGIN:STANDARD
TZOFFSETFROM:-0400
TZOFFSETTO:-0500
TZNAME:EST
DTSTART:20191103T060000
END:STANDARD
BEGIN:DAYLIGHT
TZOFFSETFROM:-0500
TZOFFSETTO:-0400
TZNAME:EDT
DTSTART:20200308T070000
END:DAYLIGHT
BEGIN:STANDARD
TZOFFSETFROM:-0400
TZOFFSETTO:-0500
TZNAME:EST
DTSTART:20201101T060000
END:STANDARD
BEGIN:DAYLIGHT
TZOFFSETFROM:-0500
TZOFFSETTO:-0400
TZNAME:EDT
DTSTART:20210314T070000
END:DAYLIGHT
BEGIN:STANDARD
TZOFFSETFROM:-0400
TZOFFSETTO:-0500
TZNAME:EST
DTSTART:20211107T060000
END:STANDARD
END:VTIMEZONE
BEGIN:VEVENT
DTSTART;TZID=America/New_York:20200321T093000
DTEND;TZID=America/New_York:20200321T093000
DTSTAMP:20260424T231243
CREATED:20200125T022922Z
LAST-MODIFIED:20200221T040235Z
UID:4762-1584783000-1584783000@massageyogaathome.com
SUMMARY:Saturday Morning Yoga For "Every Body!"
DESCRIPTION:Greet your day every Saturday at 9:30 AM  in Delray Beach with gratitude\, joy and playfulness! Wake your body\, mind and spirit with this blissful outdoor practice with a variety of postures to energize and inspire you. This class is perfect for those new to Yoga as well as seasoned practitioners! This sweet flow will tone and strengthen your body and get you out of your head and into your heart! \nBring a mat and a beach towel and I recommend a set of blocks and a strap which are inexpensive very useful props found in almost every store now!\nInvestment in your health suggested $15.00 (no one turned away due to financial constraints). \nClass is held at Veterans Park 802 NE 1st Street also listed as 777 Atlantic Plaza- Free Parking \nWe will be to the left of the covered Pagoda on the grass or under it if it is raining! \n  \nCost: $ 15.00\n[wpecpp name=”12-14-Saturday Morning Yoga @ Tropic View” price=”15.00″ align=”Left”] \n  \n“Dear Kim – Your yoga class is so awesome! For over a year\, I’ve been searching for a yoga instructor to replace the one I had that moved away. No other instructors have even come close to her level of expertise… except for you (and then some)! You knocked it out of the park!! Thanks again. Namaste.” — Pamela S. Kenyon \n 
URL:https://massageyogaathome.com/event/saturday-morning-yoga-for-every-body-9/
LOCATION:Tropic View\, 701 Avenue L\, Delray Beach\, FL\, 33483\, United States
CATEGORIES:Yoga Class
ATTACH;FMTTYPE=image/jpeg:https://massageyogaathome.com/wp-content/uploads/2019/07/active-activity-adult-1472887.jpg
END:VEVENT
END:VCALENDAR