BEGIN:VCALENDAR
VERSION:2.0
PRODID:-//Relaxed Living Yoga, Massage &amp; Nutrition - ECPv6.15.17.1//NONSGML v1.0//EN
CALSCALE:GREGORIAN
METHOD:PUBLISH
X-ORIGINAL-URL:https://massageyogaathome.com
X-WR-CALDESC:Events for Relaxed Living Yoga, Massage &amp; Nutrition
REFRESH-INTERVAL;VALUE=DURATION:PT1H
X-Robots-Tag:noindex
X-PUBLISHED-TTL:PT1H
BEGIN:VTIMEZONE
TZID:America/New_York
BEGIN:DAYLIGHT
TZOFFSETFROM:-0500
TZOFFSETTO:-0400
TZNAME:EDT
DTSTART:20180311T070000
END:DAYLIGHT
BEGIN:STANDARD
TZOFFSETFROM:-0400
TZOFFSETTO:-0500
TZNAME:EST
DTSTART:20181104T060000
END:STANDARD
BEGIN:DAYLIGHT
TZOFFSETFROM:-0500
TZOFFSETTO:-0400
TZNAME:EDT
DTSTART:20190310T070000
END:DAYLIGHT
BEGIN:STANDARD
TZOFFSETFROM:-0400
TZOFFSETTO:-0500
TZNAME:EST
DTSTART:20191103T060000
END:STANDARD
BEGIN:DAYLIGHT
TZOFFSETFROM:-0500
TZOFFSETTO:-0400
TZNAME:EDT
DTSTART:20200308T070000
END:DAYLIGHT
BEGIN:STANDARD
TZOFFSETFROM:-0400
TZOFFSETTO:-0500
TZNAME:EST
DTSTART:20201101T060000
END:STANDARD
END:VTIMEZONE
BEGIN:VEVENT
DTSTART;TZID=America/New_York:20191222T104500
DTEND;TZID=America/New_York:20191222T120000
DTSTAMP:20260423T233646
CREATED:20191213T055730Z
LAST-MODIFIED:20191213T201622Z
UID:4509-1577011500-1577016000@massageyogaathome.com
SUMMARY:Restorative Yoga at Simply Yoga
DESCRIPTION:I am subbing this class. The soothing and well-supported poses of this practice offer us the opportunity to linger quietly for awhile and savor the simple sweetness of life. The supported postures and breath leave us nourished and restored. This slower\, meditative style of yoga allows the body\, mind and spirit to move back into balance.This bliss-inducing class is perfect for those newer to yoga\, who have injuries or chronic pain\, or maybe just prefer a slower pace. You will leave with a renewed sense of peace and your body and mind will thank you!
URL:https://massageyogaathome.com/event/restorative-yoga-at-simply-yoga-2/
LOCATION:Simply Yoga of Delray Beach\, 2275 S Federal Hwy\, Unit 150\, Delray Beach\, FL\, 33483\, United States
CATEGORIES:Yoga Workshop
ATTACH;FMTTYPE=image/jpeg:https://massageyogaathome.com/wp-content/uploads/2019/11/Yoga-Nidra-2.jpg
END:VEVENT
END:VCALENDAR