BEGIN:VCALENDAR
VERSION:2.0
PRODID:-//Relaxed Living Yoga, Massage &amp; Nutrition - ECPv6.15.17.1//NONSGML v1.0//EN
CALSCALE:GREGORIAN
METHOD:PUBLISH
X-WR-CALNAME:Relaxed Living Yoga, Massage &amp; Nutrition
X-ORIGINAL-URL:https://massageyogaathome.com
X-WR-CALDESC:Events for Relaxed Living Yoga, Massage &amp; Nutrition
REFRESH-INTERVAL;VALUE=DURATION:PT1H
X-Robots-Tag:noindex
X-PUBLISHED-TTL:PT1H
BEGIN:VTIMEZONE
TZID:America/New_York
BEGIN:DAYLIGHT
TZOFFSETFROM:-0500
TZOFFSETTO:-0400
TZNAME:EDT
DTSTART:20190310T070000
END:DAYLIGHT
BEGIN:STANDARD
TZOFFSETFROM:-0400
TZOFFSETTO:-0500
TZNAME:EST
DTSTART:20191103T060000
END:STANDARD
BEGIN:DAYLIGHT
TZOFFSETFROM:-0500
TZOFFSETTO:-0400
TZNAME:EDT
DTSTART:20200308T070000
END:DAYLIGHT
BEGIN:STANDARD
TZOFFSETFROM:-0400
TZOFFSETTO:-0500
TZNAME:EST
DTSTART:20201101T060000
END:STANDARD
BEGIN:DAYLIGHT
TZOFFSETFROM:-0500
TZOFFSETTO:-0400
TZNAME:EDT
DTSTART:20210314T070000
END:DAYLIGHT
BEGIN:STANDARD
TZOFFSETFROM:-0400
TZOFFSETTO:-0500
TZNAME:EST
DTSTART:20211107T060000
END:STANDARD
END:VTIMEZONE
BEGIN:VEVENT
DTSTART;TZID=America/New_York:20201203T200000
DTEND;TZID=America/New_York:20201203T210000
DTSTAMP:20260423T052627
CREATED:20201202T023352Z
LAST-MODIFIED:20201202T023639Z
UID:5393-1607025600-1607029200@massageyogaathome.com
SUMMARY:REIKI/MEDITATION/COMPELLING CONVERSATION CIRCLE
DESCRIPTION:Join on the honor system by investing what you can (suggested min $10)\n\n\n\n\n\n\nJoin Zoom Meeting\n\n\n\n\n\nDescription: \nRev. Michael Beckwith reminds us that “a small group of people holding the vibration of Oneness\, inspiration\, or connection can mitigate the thoughts of thousands of people who are stuck in the emotional field of worry or separation.”\nLet’s connect and have some deep dialogue and conversation\, meditate\, receive and share Reiki energy healing and collectively add peace and loving kindness to the new Earth being birthed! Share the link with anyone else who is dedicated to uplifting their mind/body/spirit and wants to spread the energy of optimism!\n\nYour donation for the class is SO appreciated you can do so though PayPal (link at top of my website)\, Zelle (using kimhough@yahoo.com\, Venmo (Kim Hough-3) or by check !!\n\n\nJoin Zoom Meeting https://us02web.zoom.us/j/89830029246?pwd=U25sZSsycWJ0a2ZKZXBUaEFaeElsZz09\nMeeting ID: 898 3002 9246\nPassword: 801572
URL:https://massageyogaathome.com/event/reiki-meditation-compelling-conversation-circle-21-copy/
CATEGORIES:Energy Healing
ATTACH;FMTTYPE=image/jpeg:https://massageyogaathome.com/wp-content/uploads/2020/04/Drug-Free-Healing2.jpg
END:VEVENT
BEGIN:VEVENT
DTSTART;TZID=America/New_York:20201210T200000
DTEND;TZID=America/New_York:20201210T210000
DTSTAMP:20260423T052627
CREATED:20201202T023839Z
LAST-MODIFIED:20201202T023839Z
UID:5397-1607630400-1607634000@massageyogaathome.com
SUMMARY:REIKI/MEDITATION/COMPELLING CONVERSATION CIRCLE
DESCRIPTION:Join on the honor system by investing what you can (suggested min $10)\n\n\n\n\n\n\nJoin Zoom Meeting\n\n\n\n\n\nDescription: \nRev. Michael Beckwith reminds us that “a small group of people holding the vibration of Oneness\, inspiration\, or connection can mitigate the thoughts of thousands of people who are stuck in the emotional field of worry or separation.”\nLet’s connect and have some deep dialogue and conversation\, meditate\, receive and share Reiki energy healing and collectively add peace and loving kindness to the new Earth being birthed! Share the link with anyone else who is dedicated to uplifting their mind/body/spirit and wants to spread the energy of optimism!\n\nYour donation for the class is SO appreciated you can do so though PayPal (link at top of my website)\, Zelle (using kimhough@yahoo.com\, Venmo (Kim Hough-3) or by check !!\n\n\nJoin Zoom Meeting https://us02web.zoom.us/j/89830029246?pwd=U25sZSsycWJ0a2ZKZXBUaEFaeElsZz09\nMeeting ID: 898 3002 9246\nPassword: 801572
URL:https://massageyogaathome.com/event/reiki-meditation-compelling-conversation-circle-22/
CATEGORIES:Energy Healing
ATTACH;FMTTYPE=image/jpeg:https://massageyogaathome.com/wp-content/uploads/2020/04/Drug-Free-Healing2.jpg
END:VEVENT
BEGIN:VEVENT
DTSTART;TZID=America/New_York:20201217T200000
DTEND;TZID=America/New_York:20201217T210000
DTSTAMP:20260423T052627
CREATED:20201202T023931Z
LAST-MODIFIED:20201202T023931Z
UID:5399-1608235200-1608238800@massageyogaathome.com
SUMMARY:REIKI/MEDITATION/COMPELLING CONVERSATION CIRCLE
DESCRIPTION:Join on the honor system by investing what you can (suggested min $10)\n\n\n\n\n\n\nJoin Zoom Meeting\n\n\n\n\n\nDescription: \nRev. Michael Beckwith reminds us that “a small group of people holding the vibration of Oneness\, inspiration\, or connection can mitigate the thoughts of thousands of people who are stuck in the emotional field of worry or separation.”\nLet’s connect and have some deep dialogue and conversation\, meditate\, receive and share Reiki energy healing and collectively add peace and loving kindness to the new Earth being birthed! Share the link with anyone else who is dedicated to uplifting their mind/body/spirit and wants to spread the energy of optimism!\n\nYour donation for the class is SO appreciated you can do so though PayPal (link at top of my website)\, Zelle (using kimhough@yahoo.com\, Venmo (Kim Hough-3) or by check !!\n\n\nJoin Zoom Meeting https://us02web.zoom.us/j/89830029246?pwd=U25sZSsycWJ0a2ZKZXBUaEFaeElsZz09\nMeeting ID: 898 3002 9246\nPassword: 801572
URL:https://massageyogaathome.com/event/reiki-meditation-compelling-conversation-circle-23/
CATEGORIES:Energy Healing
ATTACH;FMTTYPE=image/jpeg:https://massageyogaathome.com/wp-content/uploads/2020/04/Drug-Free-Healing2.jpg
END:VEVENT
BEGIN:VEVENT
DTSTART;TZID=America/New_York:20201224T200000
DTEND;TZID=America/New_York:20201224T210000
DTSTAMP:20260423T052627
CREATED:20201202T024029Z
LAST-MODIFIED:20201202T024029Z
UID:5401-1608840000-1608843600@massageyogaathome.com
SUMMARY:REIKI/MEDITATION/COMPELLING CONVERSATION CIRCLE
DESCRIPTION:Join on the honor system by investing what you can (suggested min $10)\n\n\n\n\n\n\nJoin Zoom Meeting\n\n\n\n\n\nDescription: \nRev. Michael Beckwith reminds us that “a small group of people holding the vibration of Oneness\, inspiration\, or connection can mitigate the thoughts of thousands of people who are stuck in the emotional field of worry or separation.”\nLet’s connect and have some deep dialogue and conversation\, meditate\, receive and share Reiki energy healing and collectively add peace and loving kindness to the new Earth being birthed! Share the link with anyone else who is dedicated to uplifting their mind/body/spirit and wants to spread the energy of optimism!\n\nYour donation for the class is SO appreciated you can do so though PayPal (link at top of my website)\, Zelle (using kimhough@yahoo.com\, Venmo (Kim Hough-3) or by check !!\n\n\nJoin Zoom Meeting https://us02web.zoom.us/j/89830029246?pwd=U25sZSsycWJ0a2ZKZXBUaEFaeElsZz09\nMeeting ID: 898 3002 9246\nPassword: 801572
URL:https://massageyogaathome.com/event/reiki-meditation-compelling-conversation-circle-24/
CATEGORIES:Energy Healing
ATTACH;FMTTYPE=image/jpeg:https://massageyogaathome.com/wp-content/uploads/2020/04/Drug-Free-Healing2.jpg
END:VEVENT
BEGIN:VEVENT
DTSTART;TZID=America/New_York:20201229T190000
DTEND;TZID=America/New_York:20201229T203000
DTSTAMP:20260423T052627
CREATED:20200728T024922Z
LAST-MODIFIED:20201225T214226Z
UID:5219-1609268400-1609273800@massageyogaathome.com
SUMMARY:FULL MOON INSIGHTS\, GENTLE YOGA & GUIDED MEDITATION
DESCRIPTION:Join me via Zoom as we welcome the last full moon of 2020 and prepare for 2021! \nThe December 29 Full Moon arrives in the sign of Cancer\, which represents home and family. It’s an ideal time to connect with the people you love and process your feelings together even if you have to do so virtually. There is this sense of heightened emotions bubbling under this final Full Moon of the year. Cancer is ruled by the Moon\, so it is able to express its powers to the fullest. \nThis energy portal makes it ripe for gathering together and collectively creating sacred space closing out 2020 and welcoming 2021: \n\nExplore the astrological meaning and implications of this period in time\nWe will also do some gentle Yoga \nExperience a deeply healing and relaxing Guided Meditation\nBe ready to break through any blockages you have had and have liberation of spirit for 2021!\n\nInvestment $20 – Send via Zelle\, Venmo or PayPal (friends and family) using kimhough@yahoo.com or my cell number 561-715-4573 ASAP and I will send you the Zoom link.
URL:https://massageyogaathome.com/event/full-moon-gentle-yoga-insights-guided-meditation/
CATEGORIES:Meditation Event
ATTACH;FMTTYPE=image/jpeg:https://massageyogaathome.com/wp-content/uploads/2020/06/FULL-MOON.jpg
END:VEVENT
BEGIN:VEVENT
DTSTART;TZID=America/New_York:20201231T200000
DTEND;TZID=America/New_York:20201231T210000
DTSTAMP:20260423T052627
CREATED:20201226T001746Z
LAST-MODIFIED:20201226T001746Z
UID:5430-1609444800-1609448400@massageyogaathome.com
SUMMARY:REIKI/MEDITATION/COMPELLING CONVERSATION CIRCLE
DESCRIPTION:Join on the honor system by investing what you can (suggested min $10)\n\n\n\n\n\n\nJoin Zoom Meeting\n\n\n\n\n\nDescription: \nRev. Michael Beckwith reminds us that “a small group of people holding the vibration of Oneness\, inspiration\, or connection can mitigate the thoughts of thousands of people who are stuck in the emotional field of worry or separation.”\nLet’s connect and have some deep dialogue and conversation\, meditate\, receive and share Reiki energy healing and collectively add peace and loving kindness to the new Earth being birthed! Share the link with anyone else who is dedicated to uplifting their mind/body/spirit and wants to spread the energy of optimism!\n\nYour donation for the class is SO appreciated you can do so though PayPal (link at top of my website)\, Zelle (using kimhough@yahoo.com\, Venmo (Kim Hough-3) or by check !!\n\n\nJoin Zoom Meeting https://us02web.zoom.us/j/89830029246?pwd=U25sZSsycWJ0a2ZKZXBUaEFaeElsZz09\nMeeting ID: 898 3002 9246\nPassword: 801572
URL:https://massageyogaathome.com/event/reiki-meditation-compelling-conversation-circle-26/
CATEGORIES:Energy Healing
ATTACH;FMTTYPE=image/jpeg:https://massageyogaathome.com/wp-content/uploads/2020/04/Drug-Free-Healing2.jpg
END:VEVENT
END:VCALENDAR