BEGIN:VCALENDAR
VERSION:2.0
PRODID:-//Relaxed Living Yoga, Massage &amp; Nutrition - ECPv6.15.17.1//NONSGML v1.0//EN
CALSCALE:GREGORIAN
METHOD:PUBLISH
X-ORIGINAL-URL:https://massageyogaathome.com
X-WR-CALDESC:Events for Relaxed Living Yoga, Massage &amp; Nutrition
REFRESH-INTERVAL;VALUE=DURATION:PT1H
X-Robots-Tag:noindex
X-PUBLISHED-TTL:PT1H
BEGIN:VTIMEZONE
TZID:America/New_York
BEGIN:DAYLIGHT
TZOFFSETFROM:-0500
TZOFFSETTO:-0400
TZNAME:EDT
DTSTART:20190310T070000
END:DAYLIGHT
BEGIN:STANDARD
TZOFFSETFROM:-0400
TZOFFSETTO:-0500
TZNAME:EST
DTSTART:20191103T060000
END:STANDARD
BEGIN:DAYLIGHT
TZOFFSETFROM:-0500
TZOFFSETTO:-0400
TZNAME:EDT
DTSTART:20200308T070000
END:DAYLIGHT
BEGIN:STANDARD
TZOFFSETFROM:-0400
TZOFFSETTO:-0500
TZNAME:EST
DTSTART:20201101T060000
END:STANDARD
BEGIN:DAYLIGHT
TZOFFSETFROM:-0500
TZOFFSETTO:-0400
TZNAME:EDT
DTSTART:20210314T070000
END:DAYLIGHT
BEGIN:STANDARD
TZOFFSETFROM:-0400
TZOFFSETTO:-0500
TZNAME:EST
DTSTART:20211107T060000
END:STANDARD
END:VTIMEZONE
BEGIN:VEVENT
DTSTART;TZID=America/New_York:20201105T200000
DTEND;TZID=America/New_York:20201105T210000
DTSTAMP:20260423T064617
CREATED:20201017T025447Z
LAST-MODIFIED:20201017T025447Z
UID:5376-1604606400-1604610000@massageyogaathome.com
SUMMARY:REIKI/MEDITATION/COMPELLING CONVERSATION CIRCLE
DESCRIPTION:Join on the honor system by investing what you can (suggested min $10)\n\n\n\n\n\n\nJoin Zoom Meeting\n\n\n\n\n\nDescription: \nRev. Michael Beckwith reminds us that “a small group of people holding the vibration of Oneness\, inspiration\, or connection can mitigate the thoughts of thousands of people who are stuck in the emotional field of worry or separation.”\nLet’s connect and have some deep dialogue and conversation\, meditate\, receive and share Reiki energy healing and collectively add peace and loving kindness to the new Earth being birthed! Share the link with anyone else who is dedicated to uplifting their mind/body/spirit and wants to spread the energy of optimism!\n\nYour donation for the class is SO appreciated you can do so though PayPal (link at top of my website)\, Zelle (using kimhough@yahoo.com\, Venmo (Kim Hough-3) or by check !!\n\n\nJoin Zoom Meeting https://us02web.zoom.us/j/89830029246?pwd=U25sZSsycWJ0a2ZKZXBUaEFaeElsZz09\nMeeting ID: 898 3002 9246\nPassword: 801572
URL:https://massageyogaathome.com/event/reiki-meditation-compelling-conversation-circle-18/
CATEGORIES:Energy Healing
ATTACH;FMTTYPE=image/jpeg:https://massageyogaathome.com/wp-content/uploads/2020/04/Drug-Free-Healing2.jpg
END:VEVENT
BEGIN:VEVENT
DTSTART;TZID=America/New_York:20201112T200000
DTEND;TZID=America/New_York:20201112T210000
DTSTAMP:20260423T064617
CREATED:20201017T033212Z
LAST-MODIFIED:20201017T033212Z
UID:5384-1605211200-1605214800@massageyogaathome.com
SUMMARY:REIKI/MEDITATION/COMPELLING CONVERSATION CIRCLE
DESCRIPTION:Join on the honor system by investing what you can (suggested min $10)\n\n\n\n\n\n\nJoin Zoom Meeting\n\n\n\n\n\nDescription: \nRev. Michael Beckwith reminds us that “a small group of people holding the vibration of Oneness\, inspiration\, or connection can mitigate the thoughts of thousands of people who are stuck in the emotional field of worry or separation.”\nLet’s connect and have some deep dialogue and conversation\, meditate\, receive and share Reiki energy healing and collectively add peace and loving kindness to the new Earth being birthed! Share the link with anyone else who is dedicated to uplifting their mind/body/spirit and wants to spread the energy of optimism!\n\nYour donation for the class is SO appreciated you can do so though PayPal (link at top of my website)\, Zelle (using kimhough@yahoo.com\, Venmo (Kim Hough-3) or by check !!\n\n\nJoin Zoom Meeting https://us02web.zoom.us/j/89830029246?pwd=U25sZSsycWJ0a2ZKZXBUaEFaeElsZz09\nMeeting ID: 898 3002 9246\nPassword: 801572
URL:https://massageyogaathome.com/event/reiki-meditation-compelling-conversation-circle-19/
CATEGORIES:Energy Healing
ATTACH;FMTTYPE=image/jpeg:https://massageyogaathome.com/wp-content/uploads/2020/04/Drug-Free-Healing2.jpg
END:VEVENT
BEGIN:VEVENT
DTSTART;TZID=America/New_York:20201119T200000
DTEND;TZID=America/New_York:20201119T210000
DTSTAMP:20260423T064617
CREATED:20201017T033703Z
LAST-MODIFIED:20201017T033703Z
UID:5386-1605816000-1605819600@massageyogaathome.com
SUMMARY:REIKI/MEDITATION/COMPELLING CONVERSATION CIRCLE
DESCRIPTION:Join on the honor system by investing what you can (suggested min $10)\n\n\n\n\n\n\nJoin Zoom Meeting\n\n\n\n\n\nDescription: \nRev. Michael Beckwith reminds us that “a small group of people holding the vibration of Oneness\, inspiration\, or connection can mitigate the thoughts of thousands of people who are stuck in the emotional field of worry or separation.”\nLet’s connect and have some deep dialogue and conversation\, meditate\, receive and share Reiki energy healing and collectively add peace and loving kindness to the new Earth being birthed! Share the link with anyone else who is dedicated to uplifting their mind/body/spirit and wants to spread the energy of optimism!\n\nYour donation for the class is SO appreciated you can do so though PayPal (link at top of my website)\, Zelle (using kimhough@yahoo.com\, Venmo (Kim Hough-3) or by check !!\n\n\nJoin Zoom Meeting https://us02web.zoom.us/j/89830029246?pwd=U25sZSsycWJ0a2ZKZXBUaEFaeElsZz09\nMeeting ID: 898 3002 9246\nPassword: 801572
URL:https://massageyogaathome.com/event/reiki-meditation-compelling-conversation-circle-20/
CATEGORIES:Energy Healing
ATTACH;FMTTYPE=image/jpeg:https://massageyogaathome.com/wp-content/uploads/2020/04/Drug-Free-Healing2.jpg
END:VEVENT
BEGIN:VEVENT
DTSTART;TZID=America/New_York:20201126T200000
DTEND;TZID=America/New_York:20201126T210000
DTSTAMP:20260423T064617
CREATED:20201017T033808Z
LAST-MODIFIED:20201017T033808Z
UID:5387-1606420800-1606424400@massageyogaathome.com
SUMMARY:REIKI/MEDITATION/COMPELLING CONVERSATION CIRCLE
DESCRIPTION:Join on the honor system by investing what you can (suggested min $10)\n\n\n\n\n\n\nJoin Zoom Meeting\n\n\n\n\n\nDescription: \nRev. Michael Beckwith reminds us that “a small group of people holding the vibration of Oneness\, inspiration\, or connection can mitigate the thoughts of thousands of people who are stuck in the emotional field of worry or separation.”\nLet’s connect and have some deep dialogue and conversation\, meditate\, receive and share Reiki energy healing and collectively add peace and loving kindness to the new Earth being birthed! Share the link with anyone else who is dedicated to uplifting their mind/body/spirit and wants to spread the energy of optimism!\n\nYour donation for the class is SO appreciated you can do so though PayPal (link at top of my website)\, Zelle (using kimhough@yahoo.com\, Venmo (Kim Hough-3) or by check !!\n\n\nJoin Zoom Meeting https://us02web.zoom.us/j/89830029246?pwd=U25sZSsycWJ0a2ZKZXBUaEFaeElsZz09\nMeeting ID: 898 3002 9246\nPassword: 801572
URL:https://massageyogaathome.com/event/reiki-meditation-compelling-conversation-circle-21/
CATEGORIES:Energy Healing
ATTACH;FMTTYPE=image/jpeg:https://massageyogaathome.com/wp-content/uploads/2020/04/Drug-Free-Healing2.jpg
END:VEVENT
BEGIN:VEVENT
DTSTART;TZID=America/New_York:20201126T200000
DTEND;TZID=America/New_York:20201126T210000
DTSTAMP:20260423T064617
CREATED:20201202T023353Z
LAST-MODIFIED:20201202T023353Z
UID:5394-1606420800-1606424400@massageyogaathome.com
SUMMARY:REIKI/MEDITATION/COMPELLING CONVERSATION CIRCLE  Copy
DESCRIPTION:Join on the honor system by investing what you can (suggested min $10)\n\n\n\n\n\n\nJoin Zoom Meeting\n\n\n\n\n\nDescription: \nRev. Michael Beckwith reminds us that “a small group of people holding the vibration of Oneness\, inspiration\, or connection can mitigate the thoughts of thousands of people who are stuck in the emotional field of worry or separation.”\nLet’s connect and have some deep dialogue and conversation\, meditate\, receive and share Reiki energy healing and collectively add peace and loving kindness to the new Earth being birthed! Share the link with anyone else who is dedicated to uplifting their mind/body/spirit and wants to spread the energy of optimism!\n\nYour donation for the class is SO appreciated you can do so though PayPal (link at top of my website)\, Zelle (using kimhough@yahoo.com\, Venmo (Kim Hough-3) or by check !!\n\n\nJoin Zoom Meeting https://us02web.zoom.us/j/89830029246?pwd=U25sZSsycWJ0a2ZKZXBUaEFaeElsZz09\nMeeting ID: 898 3002 9246\nPassword: 801572
URL:https://massageyogaathome.com/event/reiki-meditation-compelling-conversation-circle-21-copy-2/
CATEGORIES:Energy Healing
ATTACH;FMTTYPE=image/jpeg:https://massageyogaathome.com/wp-content/uploads/2020/04/Drug-Free-Healing2.jpg
END:VEVENT
BEGIN:VEVENT
DTSTART;TZID=America/New_York:20201126T200000
DTEND;TZID=America/New_York:20201126T210000
DTSTAMP:20260423T064617
CREATED:20201202T023354Z
LAST-MODIFIED:20201202T023354Z
UID:5395-1606420800-1606424400@massageyogaathome.com
SUMMARY:REIKI/MEDITATION/COMPELLING CONVERSATION CIRCLE  Copy
DESCRIPTION:Join on the honor system by investing what you can (suggested min $10)\n\n\n\n\n\n\nJoin Zoom Meeting\n\n\n\n\n\nDescription: \nRev. Michael Beckwith reminds us that “a small group of people holding the vibration of Oneness\, inspiration\, or connection can mitigate the thoughts of thousands of people who are stuck in the emotional field of worry or separation.”\nLet’s connect and have some deep dialogue and conversation\, meditate\, receive and share Reiki energy healing and collectively add peace and loving kindness to the new Earth being birthed! Share the link with anyone else who is dedicated to uplifting their mind/body/spirit and wants to spread the energy of optimism!\n\nYour donation for the class is SO appreciated you can do so though PayPal (link at top of my website)\, Zelle (using kimhough@yahoo.com\, Venmo (Kim Hough-3) or by check !!\n\n\nJoin Zoom Meeting https://us02web.zoom.us/j/89830029246?pwd=U25sZSsycWJ0a2ZKZXBUaEFaeElsZz09\nMeeting ID: 898 3002 9246\nPassword: 801572
URL:https://massageyogaathome.com/event/reiki-meditation-compelling-conversation-circle-21-copy-3/
CATEGORIES:Energy Healing
ATTACH;FMTTYPE=image/jpeg:https://massageyogaathome.com/wp-content/uploads/2020/04/Drug-Free-Healing2.jpg
END:VEVENT
END:VCALENDAR