BEGIN:VCALENDAR
VERSION:2.0
PRODID:-//Relaxed Living Yoga, Massage &amp; Nutrition - ECPv6.15.17.1//NONSGML v1.0//EN
CALSCALE:GREGORIAN
METHOD:PUBLISH
X-ORIGINAL-URL:https://massageyogaathome.com
X-WR-CALDESC:Events for Relaxed Living Yoga, Massage &amp; Nutrition
REFRESH-INTERVAL;VALUE=DURATION:PT1H
X-Robots-Tag:noindex
X-PUBLISHED-TTL:PT1H
BEGIN:VTIMEZONE
TZID:America/New_York
BEGIN:DAYLIGHT
TZOFFSETFROM:-0500
TZOFFSETTO:-0400
TZNAME:EDT
DTSTART:20190310T070000
END:DAYLIGHT
BEGIN:STANDARD
TZOFFSETFROM:-0400
TZOFFSETTO:-0500
TZNAME:EST
DTSTART:20191103T060000
END:STANDARD
BEGIN:DAYLIGHT
TZOFFSETFROM:-0500
TZOFFSETTO:-0400
TZNAME:EDT
DTSTART:20200308T070000
END:DAYLIGHT
BEGIN:STANDARD
TZOFFSETFROM:-0400
TZOFFSETTO:-0500
TZNAME:EST
DTSTART:20201101T060000
END:STANDARD
BEGIN:DAYLIGHT
TZOFFSETFROM:-0500
TZOFFSETTO:-0400
TZNAME:EDT
DTSTART:20210314T070000
END:DAYLIGHT
BEGIN:STANDARD
TZOFFSETFROM:-0400
TZOFFSETTO:-0500
TZNAME:EST
DTSTART:20211107T060000
END:STANDARD
END:VTIMEZONE
BEGIN:VEVENT
DTSTART;TZID=America/New_York:20200307T150000
DTEND;TZID=America/New_York:20200307T170000
DTSTAMP:20260423T180228
CREATED:20191211T054346Z
LAST-MODIFIED:20200131T045914Z
UID:4354-1583593200-1583600400@massageyogaathome.com
SUMMARY:Blissful Restorative Yoga Experience
DESCRIPTION: A great practice for transcending anxiety and depression! \n“OOHH…..AAHH!” – FUSION RESTORATIVE YOGA  – Incorporating Massage\, Reiki\, Aromatherapy\, Guided Meditation\, Sound Healing and Tibetan Bowls played on the body. \n\n\nTHIS IS WHAT PREVIOUS PARTICIPANTS HAD TO SAY… \n“I felt like I had had a two-hour body and mind massage. Kim’s vibe and energy are intoxicating.” \n\n\nNO YOGA EXPERIENCE REQUIRED – JUST A DESIRE TO BE SPOILED AND PAMPERED! \nIn this workshop\, facilitated by Kim Hough\, you will experience Massage\, Aromatherapy\, Reiki and Sound Vibration as Tibetan Bowls are played on the body. The body is supported by a variety of props providing a completely supportive nurturing environment allowing you to enter into a sacred state of deep relaxation\, tranquility\, and harmony where healing takes place on profound levels! \nLeave feeling very nourished & rejuvenated as you experience the blissful juicy balance of mind\, body & spirit! \nBOOK YOUR SPOT TODAY! THIS EXPERIENCE SELLS OUT.\nINVESTMENT IN YOUR HEALTH – $55.00 \nRegister Online Here: YogaCenterDB.com/Workshops \n 
URL:https://massageyogaathome.com/event/blissful-restorative-yoga-experience/
LOCATION:Yoga Center of Deerfield Beach\, 827 SE 9th St.\, Deerfield Beach\, 33441\, United States
CATEGORIES:Meditation Event,Yoga Workshop
ATTACH;FMTTYPE=image/jpeg:https://massageyogaathome.com/wp-content/uploads/2019/11/Yoga-Nidra-2.jpg
END:VEVENT
END:VCALENDAR