BEGIN:VCALENDAR
VERSION:2.0
PRODID:-//Relaxed Living Yoga, Massage &amp; Nutrition - ECPv6.15.17.1//NONSGML v1.0//EN
CALSCALE:GREGORIAN
METHOD:PUBLISH
X-WR-CALNAME:Relaxed Living Yoga, Massage &amp; Nutrition
X-ORIGINAL-URL:https://massageyogaathome.com
X-WR-CALDESC:Events for Relaxed Living Yoga, Massage &amp; Nutrition
REFRESH-INTERVAL;VALUE=DURATION:PT1H
X-Robots-Tag:noindex
X-PUBLISHED-TTL:PT1H
BEGIN:VTIMEZONE
TZID:America/New_York
BEGIN:DAYLIGHT
TZOFFSETFROM:-0500
TZOFFSETTO:-0400
TZNAME:EDT
DTSTART:20190310T070000
END:DAYLIGHT
BEGIN:STANDARD
TZOFFSETFROM:-0400
TZOFFSETTO:-0500
TZNAME:EST
DTSTART:20191103T060000
END:STANDARD
BEGIN:DAYLIGHT
TZOFFSETFROM:-0500
TZOFFSETTO:-0400
TZNAME:EDT
DTSTART:20200308T070000
END:DAYLIGHT
BEGIN:STANDARD
TZOFFSETFROM:-0400
TZOFFSETTO:-0500
TZNAME:EST
DTSTART:20201101T060000
END:STANDARD
BEGIN:DAYLIGHT
TZOFFSETFROM:-0500
TZOFFSETTO:-0400
TZNAME:EDT
DTSTART:20210314T070000
END:DAYLIGHT
BEGIN:STANDARD
TZOFFSETFROM:-0400
TZOFFSETTO:-0500
TZNAME:EST
DTSTART:20211107T060000
END:STANDARD
END:VTIMEZONE
BEGIN:VEVENT
DTSTART;TZID=America/New_York:20200112T150000
DTEND;TZID=America/New_York:20200112T170000
DTSTAMP:20260423T210237
CREATED:20191211T054911Z
LAST-MODIFIED:20191227T044658Z
UID:4356-1578841200-1578848400@massageyogaathome.com
SUMMARY:Meditation for Fidgety Skeptics
DESCRIPTION:FEELING OVERWHELMED\, IN PAIN\, HAVING TROUBLE SLEEPING\, CHATTER IN YOUR HEAD MAKING YOU CRAZY\, WANT TO IMPROVE YOUR HEALTH??\nDid you know that Mindfulness and Meditation are very viable scientifically proven tools to help reduce pain\, lower blood pressure\, increase focus and concentration and help with the quality of sleep? Find out how in this workshop!! \nMany people think that the purpose of meditation is to tune out\, quiet the mind\, and get away from it all\, the real purpose of meditation is actually to tune in\, get in touch with it all and find peace within! \nThis innovative workshop is a fun and interactive experience offering you a variety of tools and methods you can use immediately to help you navigate through life with more clarity\, peace\, ease and joy! \nThe best investment is one in YOU!  $35.00 \nNo Experience Necessary \nRegister online at www.dancinglionstudio.com (Under Events) or Call (561) 562-5080 \n 
URL:https://massageyogaathome.com/event/meditation-for-fidgety-skeptics/
LOCATION:Dancing Lion Studio\, 290 SE 6th Ave.\, Unit 3\, Delray Beach\, 33483\, United States
CATEGORIES:Meditation Event
ATTACH;FMTTYPE=image/jpeg:https://massageyogaathome.com/wp-content/uploads/2019/12/MINDFULNESS.jpg
END:VEVENT
BEGIN:VEVENT
DTSTART;TZID=America/New_York:20200119T143000
DTEND;TZID=America/New_York:20200119T174500
DTSTAMP:20260423T210237
CREATED:20191229T041226Z
LAST-MODIFIED:20191229T041226Z
UID:4659-1579444200-1579455900@massageyogaathome.com
SUMMARY:Wisdom Board Day Retreat
DESCRIPTION:WISDOM BOARD & MANIFESTATION RETREAT!\nJoin Fern L Conn & Me for this amazing afternoon! \nA VISION BOARD IS SO 2019! A Wisdom Board is what we use in 2020! Join us for this mini retreat where we will tap into our intuition\, acknowledge what we envision for ourselves and develop skills to manifest what is in alignment with our true nature. Creating a wisdom board is so much more than cutting pictures out of a magazine.\nThis afternoon immersion will include some fun self-exploration techniques\, mindful introspection\, creativity and positive guidance on bringing in what you desire for the year to come. \nWhat is your true nature?\nIs your path in alignment with your hearts desire?\nWhere can you find more balance?\nWhat is happiness to you?\nThis is a fun\, heart warming event. There will be gentle movement for all levels\, some breath work and meditation lead by both Fern and a closing mediation with Kim Hough. \nAll materials are included and light refreshments will be served.\nEARLY BIRD INVESTMENT BY JANUARY 9th $40\nTHEREAFTER AND AT DOOR $49 \nRegister on line at www.dancinglionstudio.com – events 561-562-5080
URL:https://massageyogaathome.com/event/wisdom-board-day-retreat/
LOCATION:Dancing Lion Studio\, 290 SE 6th Ave.\, Unit 3\, Delray Beach\, 33483\, United States
CATEGORIES:Yoga Retreat
ATTACH;FMTTYPE=image/jpeg:https://massageyogaathome.com/wp-content/uploads/2019/12/Wisdom-Board-Retreat-2020.jpg
END:VEVENT
END:VCALENDAR